BEGIN:VCALENDAR
VERSION:2.0
PRODID:spatie/icalendar-generator
DESCRIPTION:Events from Dominion Environmental Consultants
X-WR-CALDESC:Events from Dominion Environmental Consultants
REFRESH-INTERVAL;VALUE=DURATION:PT1440M
X-PUBLISHED-TTL:PT1440M
BEGIN:VTIMEZONE
TZID:Etc/GMT+0
BEGIN:STANDARD
DTSTART:20230821T080000Z
TZOFFSETFROM:+0000
TZOFFSETTO:+0000
END:STANDARD
END:VTIMEZONE
BEGIN:VTIMEZONE
TZID:UTC
BEGIN:STANDARD
DTSTART:20250727T090102Z
TZOFFSETFROM:+0000
TZOFFSETTO:+0000
END:STANDARD
END:VTIMEZONE
BEGIN:VEVENT
UID:52-46
DTSTAMP:20260423T090102Z
SUMMARY:Lead Renovator (RRP) Initial Training
LOCATION:Fresh Start Environmental 270 South Purcell Boulevard  Pueblo West
  Colorado 81007
ORGANIZER;CN=admin:MAILTO:admin@dominion-env.com
DTSTART;TZID=Etc/GMT+0:20240517T080000
DTEND;TZID=Etc/GMT+0:20240517T160000
X-ALT-DESC;FMTTYPE=TEXT/HTML:Lead Renovator (RRP) Initial Training
CATEGORIES:General
URL;VALUE=URI:https://dominion-env.com/mc-events/lead-renovator-rrp-initial
 -training-2/
METHOD:PUBLISH
END:VEVENT
END:VCALENDAR