BEGIN:VCALENDAR
VERSION:2.0
PRODID:spatie/icalendar-generator
DESCRIPTION:Events from Dominion Environmental Consultants
X-WR-CALDESC:Events from Dominion Environmental Consultants
REFRESH-INTERVAL;VALUE=DURATION:PT1440M
X-PUBLISHED-TTL:PT1440M
BEGIN:VTIMEZONE
TZID:Etc/GMT+0
BEGIN:STANDARD
DTSTART:20240609T080000Z
TZOFFSETFROM:+0000
TZOFFSETTO:+0000
END:STANDARD
END:VTIMEZONE
BEGIN:VTIMEZONE
TZID:UTC
BEGIN:STANDARD
DTSTART:20250723T125837Z
TZOFFSETFROM:+0000
TZOFFSETTO:+0000
END:STANDARD
END:VTIMEZONE
BEGIN:VEVENT
UID:64-58
DTSTAMP:20260419T125837Z
SUMMARY:EPA Lead Risk Assessor Initial Training
LOCATION:The Asbestos Institute 20033 North 19th Avenue\, Building 6  Phoen
 ix AZ 85027
ORGANIZER;CN=admin:MAILTO:admin@dominion-env.com
DTSTART;TZID=Etc/GMT+0:20250306T080000
DTEND;TZID=Etc/GMT+0:20250307T160000
X-ALT-DESC;FMTTYPE=TEXT/HTML:
CATEGORIES:General
URL;VALUE=URI:https://dominion-env.com/mc-events/epa-lead-risk-assessor-ini
 tial-training-3/
METHOD:PUBLISH
END:VEVENT
END:VCALENDAR