BEGIN:VCALENDAR
VERSION:2.0
PRODID:spatie/icalendar-generator
DESCRIPTION:Events from Dominion Environmental Consultants
X-WR-CALDESC:Events from Dominion Environmental Consultants
REFRESH-INTERVAL;VALUE=DURATION:PT1440M
X-PUBLISHED-TTL:PT1440M
BEGIN:VTIMEZONE
TZID:Etc/GMT+0
BEGIN:STANDARD
DTSTART:20250504T080000Z
TZOFFSETFROM:+0000
TZOFFSETTO:+0000
END:STANDARD
END:VTIMEZONE
BEGIN:VTIMEZONE
TZID:UTC
BEGIN:STANDARD
DTSTART:20250725T185149Z
TZOFFSETFROM:+0000
TZOFFSETTO:+0000
END:STANDARD
END:VTIMEZONE
BEGIN:VEVENT
UID:80-74
DTSTAMP:20260421T185149Z
SUMMARY:EPA Lead Risk Assessor Refresher
LOCATION:Dominion Environmental Consultants NV\, Inc. 150 North Durango Dri
 ve\, Suite 190  Las Vegas Nevada 89145
ORGANIZER;CN=admin:MAILTO:admin@dominion-env.com
DTSTART;TZID=Etc/GMT+0:20260129T080000
DTEND;TZID=Etc/GMT+0:20260129T160000
X-ALT-DESC;FMTTYPE=TEXT/HTML:
CATEGORIES:General
URL;VALUE=URI:https://dominion-env.com/mc-events/epa-lead-risk-assessor-ref
 resher-7/
METHOD:PUBLISH
END:VEVENT
END:VCALENDAR