BEGIN:VCALENDAR
VERSION:2.0
PRODID:spatie/icalendar-generator
DESCRIPTION:Events from Dominion Environmental Consultants
X-WR-CALDESC:Events from Dominion Environmental Consultants
REFRESH-INTERVAL;VALUE=DURATION:PT1440M
X-PUBLISHED-TTL:PT1440M
BEGIN:VTIMEZONE
TZID:Etc/GMT+0
BEGIN:STANDARD
DTSTART:20250814T080000Z
TZOFFSETFROM:+0000
TZOFFSETTO:+0000
END:STANDARD
END:VTIMEZONE
BEGIN:VTIMEZONE
TZID:UTC
BEGIN:STANDARD
DTSTART:20250725T172251Z
TZOFFSETFROM:+0000
TZOFFSETTO:+0000
END:STANDARD
END:VTIMEZONE
BEGIN:VEVENT
UID:84-78
DTSTAMP:20260421T172251Z
SUMMARY:EPA Lead Inspector Initial Training
LOCATION:Carson City Community Center 851 E William Street   Carson City Ne
 vada 89701
ORGANIZER;CN=admin:MAILTO:admin@dominion-env.com
DTSTART;TZID=Etc/GMT+0:20260511T080000
DTEND;TZID=Etc/GMT+0:20260513T160000
X-ALT-DESC;FMTTYPE=TEXT/HTML:
CATEGORIES:General
URL;VALUE=URI:https://dominion-env.com/mc-events/epa-lead-inspector-initial
 -training-6/
METHOD:PUBLISH
END:VEVENT
END:VCALENDAR